Workbook

Sheet 【男子】学校・クラブ申込フォーム①
A1: フォーム入力者連絡先（ハイフン（-）含み入力ください） ※申込み手続きの有事の際に、様式１・２等を送信いただいたメールアドレス又は本連絡先にお問い合わせさせていただきます。 | B1: 県番 （県番は別シートをご確認ください） | C1: 都道府県名 ※自動入力 | D1: 学校・クラブ名（記入例.〇〇市立〇〇中学校・〇〇クラブ） | E1: ふりがな（ 学校・クラブ名） | F1: 場内表示名 （5文字以内） | G1: ふりがな （場内表示名） | H1: 監督名（例.〇〇 〇〇） ※性と名との間は全角スペースを空けて入力 | I1: 【出場選手】氏名 （例.〇〇 〇〇） ※性と名との間は全角スペースを空けて入力 | J1: 【出場選手】 氏名ふりがな （例.〇〇 〇〇） ※性と名との間は全角スペースを空けて入力 | K1: 【出場選手】 学年 | L1: 【出場選手】 性別 | M1: 【出場選手】 生年月日 | N1: 【出場選手】 バッジテスト級 | O1: 【出場選手】 日本スケート連盟登録番号（８桁） | P1: 【出場選手】のコーチ①氏名 （例.〇〇 〇〇） ※性と名との間は全角スペースを空けて入力 | Q1: 【出場選手】のコーチ①氏名 （例.〇〇 〇〇） ※性と名との間は全角スペースを空けて入力
A2: 例）026-224-7804 | B2: 16 | C2: 長野県 | D2: 信州クラブ | E2: しんしゅうクラブ | F2: 信州 | G2: しんしゅう | H2: 長野 太郎 | I2: 長野 三郎 | J2: ながの さぶろう | K2: 2 | L2: 男 | M2: 40536 | N2: 6級 | O2: 87654321 | P2: 信州 花子 | Q2: 信州 純子 | R2: クラブ数 | S2: 選手数 | T2: 監督数 | U2: コーチ数
C3: =IFERROR(VLOOKUP($B3,都道府県番号一覧!$B$4:$C$50,2,FALSE),"") | R3: {=IFERROR(ROWS(_xlfn.UNIQUE(_xlfn._xlws.FILTER(D3:D100, D3:D100<>""))), 0)} -> 0 | S3: {=IFERROR(ROWS(_xlfn.UNIQUE(_xlfn._xlws.FILTER(I3:I100, I3:I100<>""))), 0)} -> 0 | T3: {=IFERROR(ROWS(_xlfn.UNIQUE(_xlfn._xlws.FILTER(H3:H100, H3:H100<>""))), 0)} -> 0 | U3: {=IF(COUNTA(_xlfn.UNIQUE(_xlfn._xlws.FILTER(_xlfn.TOCOL(P3:Q100), TRIM(_xlfn.TOCOL(P3:Q100))<>"")))=1, 0, COUNTA(_xlfn.UNIQUE(_xlfn._xlws.FILTER(_xlfn.TOCOL(P3:Q100), TRIM(_xlfn.TOCOL(P3:Q100))<>""))))} -> 0
C4: =IFERROR(VLOOKUP($B4,都道府県番号一覧!$B$4:$C$50,2,FALSE),"")
C5: =IFERROR(VLOOKUP($B5,都道府県番号一覧!$B$4:$C$50,2,FALSE),"")
C6: =IFERROR(VLOOKUP($B6,都道府県番号一覧!$B$4:$C$50,2,FALSE),"")
C7: =IFERROR(VLOOKUP($B7,都道府県番号一覧!$B$4:$C$50,2,FALSE),"")
C8: =IFERROR(VLOOKUP($B8,都道府県番号一覧!$B$4:$C$50,2,FALSE),"")
C9: =IFERROR(VLOOKUP($B9,都道府県番号一覧!$B$4:$C$50,2,FALSE),"")
C10: =IFERROR(VLOOKUP($B10,都道府県番号一覧!$B$4:$C$50,2,FALSE),"")
C11: =IFERROR(VLOOKUP($B11,都道府県番号一覧!$B$4:$C$50,2,FALSE),"")
C12: =IFERROR(VLOOKUP($B12,都道府県番号一覧!$B$4:$C$50,2,FALSE),"")
C13: =IFERROR(VLOOKUP($B13,都道府県番号一覧!$B$4:$C$50,2,FALSE),"")
C14: =IFERROR(VLOOKUP($B14,都道府県番号一覧!$B$4:$C$50,2,FALSE),"")
C15: =IFERROR(VLOOKUP($B15,都道府県番号一覧!$B$4:$C$50,2,FALSE),"")
... C100: =IFERROR(VLOOKUP($B100,都道府県番号一覧!$B$4:$C$50,2,FALSE),"")

Sheet 【女子】学校・クラブ申込フォーム① 
A1: フォーム入力者連絡先（ハイフン（-）含み入力ください） ※申込み手続きの有事の際に、様式１・２等を送信いただいたメールアドレス又は本連絡先にお問い合わせさせていただきます。 | B1: 県番 （県番は別シートをご確認ください） | C1: 都道府県名 ※自動入力 | D1: 学校・クラブ名（記入例.〇〇市立〇〇中学校・〇〇クラブ） | E1: ふりがな（ 学校・クラブ名） | F1: 場内表示名 （5文字以内） | G1: ふりがな （場内表示名） | H1: 監督名（例.〇〇 〇〇） ※性と名との間は全角スペースを空けて入力 | I1: 【出場選手】氏名 （例.〇〇 〇〇） ※性と名との間は全角スペースを空けて入力 | J1: 【出場選手】 氏名ふりがな （例.〇〇 〇〇） ※性と名との間は全角スペースを空けて入力 | K1: 【出場選手】 学年 | L1: 【出場選手】 性別 | M1: 【出場選手】 生年月日 | N1: 【出場選手】 バッジテスト級 | O1: 【出場選手】 日本スケート連盟登録番号（８桁） | P1: 【出場選手】 参加区分（※女子のみ記入） | Q1: 【出場選手】 参加区分が日本スケート連盟推薦枠の場合 大会名及び成績（※女子のみ記入） | R1: 【出場選手】のコーチ①氏名 （例.〇〇 〇〇） ※性と名との間は全角スペースを空けて入力 | S1: 【出場選手】のコーチ①氏名 （例.〇〇 〇〇） ※性と名との間は全角スペースを空けて入力
A2: 例）026-224-7804 | B2: 16 | C2: 長野 | D2: 信州クラブ | E2: しんしゅうクラブ | F2: 信州 | G2: しんしゅう | H2: 長野 太郎 | I2: 長野 陽子 | J2: ながの ようこ | K2: 2 | L2: 女 | M2: 40391 | N2: 6級 | O2: 12348765 | P2: 都道府県割当（都道府県基本人数、前年度実績人数、又は開催地都道府県枠） | R2: 信州 花子 | S2: 信州 純子 | T2: クラブ数 | U2: 選手数 | V2: 監督数 | W2: コーチ数
C3: =IFERROR(VLOOKUP($B3,都道府県番号一覧!$B$4:$C$50,2,FALSE),"") | T3: {=IFERROR(ROWS(_xlfn.UNIQUE(_xlfn._xlws.FILTER(D3:D100, D3:D100<>""))), 0)} -> 0 | U3: {=IFERROR(ROWS(_xlfn.UNIQUE(_xlfn._xlws.FILTER(I3:I100, I3:I100<>""))), 0)} -> 0 | V3: {=IFERROR(ROWS(_xlfn.UNIQUE(_xlfn._xlws.FILTER(H3:H100, H3:H100<>""))), 0)} -> 0 | W3: {=IF(COUNTA(_xlfn.UNIQUE(_xlfn._xlws.FILTER(_xlfn.TOCOL(R3:S100), TRIM(_xlfn.TOCOL(R3:S100))<>"")))=1, 0, COUNTA(_xlfn.UNIQUE(_xlfn._xlws.FILTER(_xlfn.TOCOL(R3:S100), TRIM(_xlfn.TOCOL(R3:S100))<>""))))} -> 0
C4: =IFERROR(VLOOKUP($B4,都道府県番号一覧!$B$4:$C$50,2,FALSE),"")
C5: =IFERROR(VLOOKUP($B5,都道府県番号一覧!$B$4:$C$50,2,FALSE),"")
C6: =IFERROR(VLOOKUP($B6,都道府県番号一覧!$B$4:$C$50,2,FALSE),"")
C7: =IFERROR(VLOOKUP($B7,都道府県番号一覧!$B$4:$C$50,2,FALSE),"")
C8: =IFERROR(VLOOKUP($B8,都道府県番号一覧!$B$4:$C$50,2,FALSE),"")
C9: =IFERROR(VLOOKUP($B9,都道府県番号一覧!$B$4:$C$50,2,FALSE),"")
C10: =IFERROR(VLOOKUP($B10,都道府県番号一覧!$B$4:$C$50,2,FALSE),"")
C11: =IFERROR(VLOOKUP($B11,都道府県番号一覧!$B$4:$C$50,2,FALSE),"")
C12: =IFERROR(VLOOKUP($B12,都道府県番号一覧!$B$4:$C$50,2,FALSE),"")
C13: =IFERROR(VLOOKUP($B13,都道府県番号一覧!$B$4:$C$50,2,FALSE),"")
C14: =IFERROR(VLOOKUP($B14,都道府県番号一覧!$B$4:$C$50,2,FALSE),"")
C15: =IFERROR(VLOOKUP($B15,都道府県番号一覧!$B$4:$C$50,2,FALSE),"")
... C100: =IFERROR(VLOOKUP($B100,都道府県番号一覧!$B$4:$C$50,2,FALSE),"")

Sheet 都道府県番号一覧
B1: 都道府県番号一覧
B3: 番号 | C3: 都道府県名
B4: 1 | C4: 北海道
B5: 2 | C5: 青森県
B6: 3 | C6: 岩手県
B7: 4 | C7: 宮城県
B8: 5 | C8: 秋田県
B9: 6 | C9: 山形県
B10: 7 | C10: 福島県
B11: 8 | C11: 茨城県
B12: 9 | C12: 栃木県
B13: 10 | C13: 群馬県
B14: 11 | C14: 埼玉県
B15: 12 | C15: 千葉県
... B50: 47 | C50: 沖縄県
